BEGIN:VCALENDAR
VERSION:2.0
PRODID:-//Sabrina Kaufmann - ECPv5.4.0.1//NONSGML v1.0//EN
CALSCALE:GREGORIAN
METHOD:PUBLISH
X-WR-CALNAME:Sabrina Kaufmann
X-ORIGINAL-URL:https://sabrinakaufmann.com
X-WR-CALDESC:Events for Sabrina Kaufmann
BEGIN:VTIMEZONE
TZID:Europe/Luxembourg
BEGIN:DAYLIGHT
TZOFFSETFROM:+0100
TZOFFSETTO:+0200
TZNAME:CEST
DTSTART:20180325T010000
END:DAYLIGHT
BEGIN:STANDARD
TZOFFSETFROM:+0200
TZOFFSETTO:+0100
TZNAME:CET
DTSTART:20181028T010000
END:STANDARD
END:VTIMEZONE
BEGIN:VEVENT
DTSTART;VALUE=DATE:20180414
DTEND;VALUE=DATE:20180416
DTSTAMP:20211011T130222
CREATED:20180309T213041Z
LAST-MODIFIED:20180309T214348Z
UID:620-1523664000-1523836799@sabrinakaufmann.com
SUMMARY:Luxcon
DESCRIPTION:10h-18h
URL:https://sabrinakaufmann.com/calendar/luxcon-2/
LOCATION:Forum Geeseknäpchen\, Luxembourg\, Luxembourg
CATEGORIES:Conventions
END:VEVENT
END:VCALENDAR