BEGIN:VCALENDAR
VERSION:2.0
PRODID:-//Sabrina Kaufmann - ECPv5.4.0.1//NONSGML v1.0//EN
CALSCALE:GREGORIAN
METHOD:PUBLISH
X-WR-CALNAME:Sabrina Kaufmann
X-ORIGINAL-URL:https://sabrinakaufmann.com
X-WR-CALDESC:Events for Sabrina Kaufmann
BEGIN:VTIMEZONE
TZID:Europe/Luxembourg
BEGIN:DAYLIGHT
TZOFFSETFROM:+0100
TZOFFSETTO:+0200
TZNAME:CEST
DTSTART:20190331T010000
END:DAYLIGHT
BEGIN:STANDARD
TZOFFSETFROM:+0200
TZOFFSETTO:+0100
TZNAME:CET
DTSTART:20191027T010000
END:STANDARD
END:VTIMEZONE
BEGIN:VEVENT
DTSTART;VALUE=DATE:20190425
DTEND;VALUE=DATE:20190426
DTSTAMP:20211011T131056
CREATED:20181230T092829Z
LAST-MODIFIED:20181230T092829Z
UID:2175-1556150400-1556236799@sabrinakaufmann.com
SUMMARY:Manga Made in Luxembourg – Workshops
DESCRIPTION:During the Manga Made in Luxembourg week\, I will be animating a two-lesson workshop about character-design\, where you’ll learn the basics of drawing and creating characters\, in order to eventually create a hero for the Aalt Stadhaus Library! Please enroll by contacting Aalt Stadhaus at (+352) 58 77 1 -1921. \nWorkshops take place on Saturday 20/04 from 14h-15h30 and Thursday 25/04 from 15h30-17h30. \n 
URL:https://sabrinakaufmann.com/calendar/manga-made-in-luxembourg-workshops-2/
LOCATION:Aalt Stadhaus\, 38\, avenue Charlotte\, Differdange\, Luxembourg
END:VEVENT
END:VCALENDAR