BEGIN:VCALENDAR
VERSION:2.0
PRODID:-//Sabrina Kaufmann - ECPv5.4.0.1//NONSGML v1.0//EN
CALSCALE:GREGORIAN
METHOD:PUBLISH
X-WR-CALNAME:Sabrina Kaufmann
X-ORIGINAL-URL:https://sabrinakaufmann.com
X-WR-CALDESC:Events for Sabrina Kaufmann
BEGIN:VTIMEZONE
TZID:Europe/Luxembourg
BEGIN:DAYLIGHT
TZOFFSETFROM:+0100
TZOFFSETTO:+0200
TZNAME:CEST
DTSTART:20180325T010000
END:DAYLIGHT
BEGIN:STANDARD
TZOFFSETFROM:+0200
TZOFFSETTO:+0100
TZNAME:CET
DTSTART:20181028T010000
END:STANDARD
END:VTIMEZONE
BEGIN:VEVENT
DTSTART;VALUE=DATE:20180513
DTEND;VALUE=DATE:20180514
DTSTAMP:20211011T130651
CREATED:20180320T123255Z
LAST-MODIFIED:20180320T123255Z
UID:905-1526169600-1526255999@sabrinakaufmann.com
SUMMARY:Rayon Vert
DESCRIPTION:10h-18h
URL:https://sabrinakaufmann.com/calendar/rayon-vert/
LOCATION:Centre Saint Michel\, Boucle de la Ferme\, Volkrange\, France
CATEGORIES:Conventions
END:VEVENT
END:VCALENDAR