BEGIN:VCALENDAR
VERSION:2.0
PRODID:-//Sabrina Kaufmann - ECPv5.4.0.1//NONSGML v1.0//EN
CALSCALE:GREGORIAN
METHOD:PUBLISH
X-WR-CALNAME:Sabrina Kaufmann
X-ORIGINAL-URL:https://sabrinakaufmann.com
X-WR-CALDESC:Events for Sabrina Kaufmann
BEGIN:VTIMEZONE
TZID:Europe/Luxembourg
BEGIN:DAYLIGHT
TZOFFSETFROM:+0100
TZOFFSETTO:+0200
TZNAME:CEST
DTSTART:20210328T010000
END:DAYLIGHT
BEGIN:STANDARD
TZOFFSETFROM:+0200
TZOFFSETTO:+0100
TZNAME:CET
DTSTART:20211031T010000
END:STANDARD
END:VTIMEZONE
BEGIN:VEVENT
DTSTART;VALUE=DATE:20210313
DTEND;VALUE=DATE:20210315
DTSTAMP:20211011T131431
CREATED:20210218T130826Z
LAST-MODIFIED:20210310T124524Z
UID:6626-1615593600-1615766399@sabrinakaufmann.com
SUMMARY:Wonder'Cord Online Con
DESCRIPTION:Online Con on Discord. Doors open on 13+14 March ♥ \nAnimations: \n\n13th March live on YouTube for a Q&A about art and freelancing + live drawing. Set a reminder and ask your questions right away! 😀\n14th March at 13h30 in the Discord server\n\nFollow Wonder’Cord online for the full programme and convention link! \nWonder’Cord | Facebook\nWonderCordOfficiel (@wondercordofficiel2021) • Instagram
URL:https://sabrinakaufmann.com/calendar/wondercord-online-con/
CATEGORIES:Conventions
END:VEVENT
BEGIN:VEVENT
DTSTART;TZID=Europe/Luxembourg:20210313T133000
DTEND;TZID=Europe/Luxembourg:20210313T143000
DTSTAMP:20211011T131431
CREATED:20210310T122910Z
LAST-MODIFIED:20210310T122910Z
UID:6657-1615642200-1615645800@sabrinakaufmann.com
SUMMARY:Wonder'Cord Livestream + Q&A
DESCRIPTION:Dans ce live\, je réponds à toutes tes questions sur le métier d’illustrateur\, la création de mangas et l’auto-édition\, les ventes de produits artistiques\, les commandes… tout ce que tu veux\, pendant une heure tout en encrant une planche de mon manga Illustrated Fairytales ♥ \nPose tes questions sur Instagram @myartbizacademia ou myartbizacademia@gmail.com\, ou dans les commentaires de ce post! Si tu veux être sûr(e) d’obtenir une réponse\, balance ton message! Je prépare déjà une petite sélection de questions au préalable abordées en priorité 😊 \nActive le rappel ici sur YouTube et rejoins le live ici!  \n 
URL:https://sabrinakaufmann.com/calendar/wondercord-live/
CATEGORIES:Special Events
END:VEVENT
END:VCALENDAR