BEGIN:VCALENDAR
VERSION:2.0
PRODID:-//Sabrina Kaufmann - ECPv5.4.0.1//NONSGML v1.0//EN
CALSCALE:GREGORIAN
METHOD:PUBLISH
X-WR-CALNAME:Sabrina Kaufmann
X-ORIGINAL-URL:https://sabrinakaufmann.com
X-WR-CALDESC:Events for Sabrina Kaufmann
BEGIN:VTIMEZONE
TZID:Europe/Luxembourg
BEGIN:DAYLIGHT
TZOFFSETFROM:+0100
TZOFFSETTO:+0200
TZNAME:CEST
DTSTART:20210328T010000
END:DAYLIGHT
BEGIN:STANDARD
TZOFFSETFROM:+0200
TZOFFSETTO:+0100
TZNAME:CET
DTSTART:20211031T010000
END:STANDARD
END:VTIMEZONE
BEGIN:VEVENT
DTSTART;VALUE=DATE:20210717
DTEND;VALUE=DATE:20210718
DTSTAMP:20211010T011854
CREATED:20210707T190543Z
LAST-MODIFIED:20210707T190543Z
UID:6779-1626480000-1626566399@sabrinakaufmann.com
SUMMARY:BD Festival Contern
DESCRIPTION:I’ll be present on Sunday 11/07 + Saturday 17/07 to sign Fortifications & IllusFairy\, along with other amazing artist \n9h30-12h30 & 14h30-17h30\n\nPlease reserve your place to be respectful of covid measures for both visitors & authors. Looking forward to seeing you again \n\n\nReserve your place here!
URL:https://sabrinakaufmann.com/calendar/contern2021b/
LOCATION:Contern\, Luxembourg\, Contern\, Luxembourg
CATEGORIES:Conventions
END:VEVENT
END:VCALENDAR