BEGIN:VCALENDAR
VERSION:2.0
PRODID:-//Sabrina Kaufmann - ECPv5.4.0.1//NONSGML v1.0//EN
CALSCALE:GREGORIAN
METHOD:PUBLISH
X-WR-CALNAME:Sabrina Kaufmann
X-ORIGINAL-URL:https://sabrinakaufmann.com
X-WR-CALDESC:Events for Sabrina Kaufmann
BEGIN:VTIMEZONE
TZID:Europe/Luxembourg
BEGIN:DAYLIGHT
TZOFFSETFROM:+0100
TZOFFSETTO:+0200
TZNAME:CEST
DTSTART:20210328T010000
END:DAYLIGHT
BEGIN:STANDARD
TZOFFSETFROM:+0200
TZOFFSETTO:+0100
TZNAME:CET
DTSTART:20211031T010000
END:STANDARD
END:VTIMEZONE
BEGIN:VEVENT
DTSTART;VALUE=DATE:20211030
DTEND;VALUE=DATE:20211101
DTSTAMP:20211007T065201
CREATED:20211004T153938Z
LAST-MODIFIED:20211004T153938Z
UID:6848-1635552000-1635724799@sabrinakaufmann.com
SUMMARY:Japan Addict Z
DESCRIPTION:10h-19h
URL:https://sabrinakaufmann.com/calendar/japanaddictz-2021/
LOCATION:Zénith Strasbourg\, Strasbourg\, France
CATEGORIES:Conventions
END:VEVENT
END:VCALENDAR